BEGIN:VCALENDAR
VERSION:2.0
PRODID:-//Road To Peru - ECPv6.15.20//NONSGML v1.0//EN
CALSCALE:GREGORIAN
METHOD:PUBLISH
X-ORIGINAL-URL:https://roadtoperu.org
X-WR-CALDESC:Events for Road To Peru
REFRESH-INTERVAL;VALUE=DURATION:PT1H
X-Robots-Tag:noindex
X-PUBLISHED-TTL:PT1H
BEGIN:VTIMEZONE
TZID:Europe/Malta
BEGIN:DAYLIGHT
TZOFFSETFROM:+0100
TZOFFSETTO:+0200
TZNAME:CEST
DTSTART:20250330T010000
END:DAYLIGHT
BEGIN:STANDARD
TZOFFSETFROM:+0200
TZOFFSETTO:+0100
TZNAME:CET
DTSTART:20251026T010000
END:STANDARD
BEGIN:DAYLIGHT
TZOFFSETFROM:+0100
TZOFFSETTO:+0200
TZNAME:CEST
DTSTART:20260329T010000
END:DAYLIGHT
BEGIN:STANDARD
TZOFFSETFROM:+0200
TZOFFSETTO:+0100
TZNAME:CET
DTSTART:20261025T010000
END:STANDARD
BEGIN:DAYLIGHT
TZOFFSETFROM:+0100
TZOFFSETTO:+0200
TZNAME:CEST
DTSTART:20270328T010000
END:DAYLIGHT
BEGIN:STANDARD
TZOFFSETFROM:+0200
TZOFFSETTO:+0100
TZNAME:CET
DTSTART:20271031T010000
END:STANDARD
END:VTIMEZONE
BEGIN:VEVENT
DTSTART;TZID=Europe/Malta:20260321T190000
DTEND;TZID=Europe/Malta:20260321T230000
DTSTAMP:20260420T173047
CREATED:20260223T010207Z
LAST-MODIFIED:20260320T165714Z
UID:883-1774119600-1774134000@roadtoperu.org
SUMMARY:Fundraising Buffet - Ħad-Dingli
DESCRIPTION:Spend a delicious evening in great company at our Fundraising Buffet on 21st March at 7:00pm at 35° North within Każin tal-Banda Santa Marija\, Ħad-Dingli. Come hungry and enjoy a generous selection from comforting starters like soup of the day and baked pasta\, to a satisfying selection of mains including grilled chicken thighs\, rabbit in garlic\, pork chops\, salmon\, and more\, finished off with dessert. \nYour ticket includes free-flowing wine\, beer\, soft drinks\, and water. Younger guests get a dedicated child set menu. \nThere will also be Tombola with nice prizes to win!  (Non-profit tombola permit MGA-262-03/2026) \nAll profits will go towards supporting the mission in Peru. \n\n\n\n\n\n\n\n\n\n\nBuy tickets
URL:https://roadtoperu.org/event/buffet-had-dingli/
LOCATION:Każin tal-Banda Santa Marija\, Każin tal-Banda Santa Marija\, Misraħ Frenċ Abela\, Ħad-Dingli\, Malta
CATEGORIES:Dining
ATTACH;FMTTYPE=image/png:https://roadtoperu.org/wp-content/uploads/2026/02/Ikla_Had-Dingli_Buffet.png
ORGANIZER;CN="Road To Peru":MAILTO:info@youths.vision
END:VEVENT
BEGIN:VEVENT
DTSTART;TZID=Europe/Malta:20260322T070000
DTEND;TZID=Europe/Malta:20260322T183000
DTSTAMP:20260420T173047
CREATED:20260223T053009Z
LAST-MODIFIED:20260321T162455Z
UID:949-1774162800-1774204200@roadtoperu.org
SUMMARY:Collection at l-Imġarr Parish Church
DESCRIPTION:The parish of l-Imġarr has decided that this year’s lent collection for a good cause goes to support the mission in Peru\, through the Road to Peru initiative. \nWe will be visiting the parish church of l-Imġarr and the church of Żebbiegħ for the whole day to meet you\, answer any questions that you might have\, and accept your generous donations. \nWe will also be selling freshly made traditional sfineġ tal-inċova from the parvis of the parish church. Enjoy these local delicacies while helping the mission in Peru.
URL:https://roadtoperu.org/event/test/
LOCATION:Parish Church of the Assumption of the Blessed Virgin Mary\, Parish Church of the Assumption of the Blessed Virgin Mary into Heaven\, Triq il-Kbira\, Mġarr\, Malta
CATEGORIES:Collection
ATTACH;FMTTYPE=image/png:https://roadtoperu.org/wp-content/uploads/2026/02/RtP_Donation.png
ORGANIZER;CN="Road To Peru":MAILTO:info@youths.vision
END:VEVENT
BEGIN:VEVENT
DTSTART;TZID=Europe/Malta:20260401T080000
DTEND;TZID=Europe/Malta:20260404T170000
DTSTAMP:20260420T173047
CREATED:20260408T185504Z
LAST-MODIFIED:20260408T185506Z
UID:1097-1775030400-1775322000@roadtoperu.org
SUMMARY:From the table to the Mission - Holy Week Exhibition
DESCRIPTION:From the Table to the Mission is a Holy Week exhibition being organised by the Road to Peru volunteers\, featuring works by local artists together with an Apostles’ Table.\n \nDrawing its inspiration from the mystery of the Lord’s Supper\, this initiative invites the faithful and the wider public to enter more deeply into the spirit of Lent and Holy Week\, and to reflect on how communion with Christ at the table of the Eucharist must bear fruit in charity\, service and mission. In this spirit\, the exhibition will also serve as a fundraiser in support of the mission of Fr Raymond Portelli in Iquitos\, Peru\, helping to sustain his generous pastoral and humanitarian work through soup kitchens\, a hospice\, a drug rehabilitation centre\, a polyclinic\, and a home for the elderly.
URL:https://roadtoperu.org/event/from-the-table-to-the-mission-holy-week-exhibition/
LOCATION:Kappella ta’ San Bastjan\, Triq Gorg Borg Olivier\, Rabat\, Rabat\, RBT 9045\, Malta
ATTACH;FMTTYPE=image/png:https://roadtoperu.org/wp-content/uploads/2026/04/Poster_HolyWeekRtP.png
ORGANIZER;CN="Road To Peru":MAILTO:info@youths.vision
END:VEVENT
BEGIN:VEVENT
DTSTART;TZID=Europe/Malta:20260419T160000
DTEND;TZID=Europe/Malta:20260419T220000
DTSTAMP:20260420T173047
CREATED:20260401T021910Z
LAST-MODIFIED:20260419T225814Z
UID:1071-1776614400-1776636000@roadtoperu.org
SUMMARY:5-a-side Football Tournament
DESCRIPTION:POSTPONED TO A FUTURE DATE. Get your squad together and take on the challenge at our 5-a-side Football Tournament at the Football Ground within The Archbishop’s Seminary\, Tal-Virtù\, Ir-Rabat\, on Sunday 19th April 2026\, starting at 16:00. \nIt’s a fast-paced\, high-energy tournament for teams who love the game and want a proper competitive afternoon. Even better\, by taking part you’ll also be supporting a cause that matters: all proceeds will go towards the mission in Iquitos\, Peru. \n\nTeam size: 5-7 players per team\nEntry fee: €10 donation per player\nPrize: €200 cash to the winners\n\nSecure your team’s place\, lace up\, and come ready to play: for the prize\, for the fun\, and for the mission. \n\n\n\n\n\n\n\n\n\n\nRegister Team
URL:https://roadtoperu.org/event/football-tournament/
LOCATION:The Archbishop’s Seminary\, 90\, Triq Tal-Virtú\, Ir-Rabat\, RBT 2604\, Malta
CATEGORIES:Tournament
ATTACH;FMTTYPE=image/png:https://roadtoperu.org/wp-content/uploads/2026/04/FootBall_Tournament.png
ORGANIZER;CN="Road To Peru":MAILTO:info@youths.vision
END:VEVENT
END:VCALENDAR